{"text_format":"3","workbook":"xlsx","n_sheets":2,"sheets":["报名表","此表自动生成，不可改动"],"not_rendered":{"comments":1},"read":"whole","date_system":"1900"}

{"sheet":"报名表","index":0,"n_rows":25,"n_cols":7,"rows_kept":25,"merged":[[0,0,0,6],[1,1,1,2],[2,6,8,6],[3,1,3,3],[9,5,9,6],[10,1,10,2],[11,1,11,6],[12,0,13,0],[12,1,13,6],[14,0,18,0],[14,1,18,6],[19,0,23,0],[24,0,24,6]]}
["衡水银行2018年劳务派遣人员招聘报名表"]
["应聘岗位",null,null,"是否同意调剂",null,"报名日期"]
["姓   名",null,"性   别",null,"出生年月",null,"请插入一寸免冠彩照"]
["身份证号码",{"$nulls":3},"户籍所在地"]
["政治面貌",null,"婚   否",null,"民   族"]
["健康状况",null,"联系电话",null,"电子邮箱"]
["第一学历",null,"教育类型",null,"毕业学校"]
["毕业时间",null,"专   业",null,"学   位"]
["最高学历",null,"教育类型",null,"毕业学校"]
["毕业时间",null,"专   业",null,"学   位"]
["现家庭住址",null,null,"紧急联系人",null,"紧急联系人电话"]
["取得相关资质证书情况"]
["学习经历"]
[]
["工作经历和业绩表现"]
[]
[]
[]
[]
["家庭成员","与本人关系",null,"姓   名",null,"工作单位及职务"]
[null,"与本人关系",null,"姓   名",null,"工作单位及职务"]
[null,"与本人关系",null,"姓   名",null,"工作单位及职务"]
[null,"与本人关系",null,"姓   名",null,"工作单位及职务"]
[null,"与本人关系",null,"姓   名",null,"工作单位及职务"]
["应聘者对个人填报信息的真实性负责，如有隐瞒或伪造，与事实不符，本行有权取消其应聘资格。"]

{"sheet":"此表自动生成，不可改动","index":1,"n_rows":2,"n_cols":47,"rows_kept":2}
["报名日期","应聘岗位","是否同意调剂","姓名","性别","出生年月","身份证号码","户籍所在地","政治面貌","婚否","民族","健康状况","联系电话","电子邮箱","第一学历","教育类型","毕业学校","毕业时间","专业","学位","最高学历","教育类型","毕业学校","毕业时间","专业","学位","现家庭住址","紧急联系人","紧急联系人电话","取得相关资质证书情况","学习经历","工作经历和业绩表现","与本人关系","姓名","工作单位及职务","与本人关系","姓名","工作单位及职务","与本人关系","姓名","工作单位及职务","与本人关系","姓名","工作单位及职务","与本人关系","姓名","工作单位及职务"]
[{"$f":"报名表!G2","v":"00:00:00"},{"$f":"报名表!B2","v":0},{"$f":"报名表!E2","v":0},{"$f":"报名表!B3","v":0},{"$f":"报名表!D3","v":0},{"$f":"报名表!F3","v":"00:00:00"},{"$f":"报名表!B4","v":0},{"$f":"报名表!F4","v":0},{"$f":"报名表!B5","v":0},{"$f":"报名表!D5","v":0},{"$f":"报名表!F5","v":0},{"$f":"报名表!B6","v":0},{"$f":"报名表!D6","v":0},{"$f":"报名表!F6","v":0},{"$f":"报名表!B7","v":0},{"$f":"报名表!D7","v":0},{"$f":"报名表!F7","v":0},{"$f":"报名表!B8","v":"00:00:00"},{"$f":"报名表!D8","v":0},{"$f":"报名表!F8","v":0},{"$f":"报名表!B9","v":0},{"$f":"报名表!D9","v":0},{"$f":"报名表!F9","v":0},{"$f":"报名表!B10","v":"00:00:00"},{"$f":"报名表!D10","v":0},{"$f":"报名表!F10","v":0},{"$f":"报名表!B11","v":0},{"$f":"报名表!E11","v":0},{"$f":"报名表!G11","v":0},{"$f":"报名表!B12","v":0},{"$f":"报名表!B13","v":0},{"$f":"报名表!B15","v":0},{"$f":"报名表!C20","v":0},{"$f":"报名表!E20","v":0},{"$f":"报名表!G20","v":0},{"$f":"报名表!C21","v":0},{"$f":"报名表!E21","v":0},{"$f":"报名表!G21","v":0},{"$f":"报名表!C22","v":0},{"$f":"报名表!E22","v":0},{"$f":"报名表!G22","v":0},{"$f":"报名表!C23","v":0},{"$f":"报名表!E23","v":0},{"$f":"报名表!G23","v":0},{"$f":"报名表!C24","v":0},{"$f":"报名表!E24","v":0},{"$f":"报名表!G24","v":0}]