{"text_format":"3","workbook":"xlsx","n_sheets":3,"sheets":["报名表","此表自动生成，不可随意更改","Sheet3"],"not_rendered":{"comments":1},"read":"whole","date_system":"1900"}

{"sheet":"报名表","index":0,"n_rows":25,"n_cols":7,"rows_kept":25,"merged":[[0,0,0,6],[1,1,1,2],[1,5,1,6],[2,6,8,6],[3,1,3,3],[7,1,7,5],[8,1,8,2],[8,4,8,5],[9,1,9,6],[10,0,13,0],[10,1,13,6],[14,0,18,0],[14,1,18,6],[19,0,23,0],[19,1,23,6],[24,0,24,6]]}
["衡水银行2018年招聘报名表"]
["应聘岗位",{"$nulls":3},"报名日期"]
["姓    名",null,"性   别",null,"出生年月",null,"请插入一寸免冠彩照"]
["身份证号码",{"$nulls":3},"健康状况"]
["政治面貌",null,"婚    否",null,"民    族"]
["第一学历",null,"毕业学校",null,"专   业"]
["最高学历",null,"毕业学校",null,"专   业"]
["专业技术职称"]
["联系电话",null,null,"电子邮箱"]
["现家庭住址"]
["取得相关资质证书情况"]
[]
[]
[]
["学习经历"]
[]
[]
[]
[]
["工作经历"]
[]
[]
[]
[]
["应聘者对个人填报信息的真实性负责，如有隐瞒或伪造，与事实不符，本行有权取消其应聘资格。"]

{"sheet":"此表自动生成，不可随意更改","index":1,"n_rows":2,"n_cols":21,"rows_kept":2}
[{"$f":"报名表!E2","v":"报名日期"},{"$f":"报名表!A2","v":"应聘岗位"},{"$f":"报名表!A3","v":"姓    名"},{"$f":"报名表!C3","v":"性   别"},{"$f":"报名表!E3","v":"出生年月"},{"$f":"报名表!A4","v":"身份证号码"},{"$f":"报名表!C5","v":"婚    否"},{"$f":"报名表!E5","v":"民    族"},{"$f":"报名表!A6","v":"第一学历"},{"$f":"报名表!C6","v":"毕业学校"},{"$f":"报名表!E6","v":"专   业"},{"$f":"报名表!A7","v":"最高学历"},{"$f":"报名表!C7","v":"毕业学校"},{"$f":"报名表!E7","v":"专   业"},{"$f":"报名表!A8","v":"专业技术职称"},{"$f":"报名表!A9","v":"联系电话"},{"$f":"报名表!D9","v":"电子邮箱"},{"$f":"报名表!A10","v":"现家庭住址"},{"$f":"报名表!A11","v":"取得相关资质证书情况"},{"$f":"报名表!A15","v":"学习经历"},{"$f":"报名表!A20","v":"工作经历"}]
[{"$f":"报名表!G2","v":0},{"$f":"报名表!B2","v":0},{"$f":"报名表!B3","v":0},{"$f":"报名表!D3","v":0},{"$f":"报名表!F3","v":0},{"$f":"报名表!B4","v":0},{"$f":"报名表!D5","v":0},{"$f":"报名表!F5","v":0},{"$f":"报名表!B6","v":0},{"$f":"报名表!D6","v":0},{"$f":"报名表!F6","v":0},{"$f":"报名表!B7","v":0},{"$f":"报名表!D7","v":0},{"$f":"报名表!F7","v":0},{"$f":"报名表!B8","v":0},{"$f":"报名表!B9","v":0},{"$f":"报名表!E9","v":0},{"$f":"报名表!B10","v":0},{"$f":"报名表!B11","v":0},{"$f":"报名表!B15","v":0},{"$f":"报名表!B20","v":0}]

{"sheet":"Sheet3","index":2,"n_rows":0,"n_cols":0,"rows_kept":0}